BEGIN:VCALENDAR
VERSION:2.0
PRODID:-//Favuzza Missions - ECPv6.15.20//NONSGML v1.0//EN
CALSCALE:GREGORIAN
METHOD:PUBLISH
X-ORIGINAL-URL:https://dougandbrittanyfavuzza.com
X-WR-CALDESC:Events for Favuzza Missions
REFRESH-INTERVAL;VALUE=DURATION:PT1H
X-Robots-Tag:noindex
X-PUBLISHED-TTL:PT1H
BEGIN:VTIMEZONE
TZID:America/New_York
BEGIN:DAYLIGHT
TZOFFSETFROM:-0500
TZOFFSETTO:-0400
TZNAME:EDT
DTSTART:20230312T070000
END:DAYLIGHT
BEGIN:STANDARD
TZOFFSETFROM:-0400
TZOFFSETTO:-0500
TZNAME:EST
DTSTART:20231105T060000
END:STANDARD
BEGIN:DAYLIGHT
TZOFFSETFROM:-0500
TZOFFSETTO:-0400
TZNAME:EDT
DTSTART:20240310T070000
END:DAYLIGHT
BEGIN:STANDARD
TZOFFSETFROM:-0400
TZOFFSETTO:-0500
TZNAME:EST
DTSTART:20241103T060000
END:STANDARD
BEGIN:DAYLIGHT
TZOFFSETFROM:-0500
TZOFFSETTO:-0400
TZNAME:EDT
DTSTART:20250309T070000
END:DAYLIGHT
BEGIN:STANDARD
TZOFFSETFROM:-0400
TZOFFSETTO:-0500
TZNAME:EST
DTSTART:20251102T060000
END:STANDARD
END:VTIMEZONE
BEGIN:VEVENT
DTSTART;TZID=America/New_York:20240705T190000
DTEND;TZID=America/New_York:20240707T120000
DTSTAMP:20260424T204647
CREATED:20240423T185749Z
LAST-MODIFIED:20240424T144212Z
UID:1886-1720206000-1720353600@dougandbrittanyfavuzza.com
SUMMARY:Conference of Worship 2024 by Project John 4:24 - Catamarca
DESCRIPTION:Conference of Worship 2024 by Project John 4:24 – Catamarca\nThe sessions focus on personal and powerful moments in the presence of God. All participants will have the opportunity to observe a practical model of music and prayer\, as well as to ask questions to our team and work in small groups. Attendees will see examples of our team singing and praying the Word\, and they will learn how to apply it in various contexts\, such as church services\, small prayer meetings\, or discipleship groups. Douglas and Brittany firmly believe that these tools are extremely powerful for a church that desires to help new believers grow in the Word of God. Additionally\, attendees will learn tools to experience personal revival and\, as a result\, impact the world around them for the glory of God. \nLocation: Church “Ministerio Jesús el Buen Pastor”\, Dr. Teodulfo Barrionuevo 1506 – San Fernando del Valle de Catamarca\, Catamarca \nConference Price: $7000 (April-May) / $9000 (June)\nGroup Price: More than 7 people: $5000
URL:https://dougandbrittanyfavuzza.com/event/conference-of-worship-2024-by-project-john-424/
LOCATION:Catamarca\, Argentina
CATEGORIES:Equipping
ATTACH;FMTTYPE=image/png:https://dougandbrittanyfavuzza.com/wp-content/uploads/2024/04/Afiche-Conferencia-Proyecto-Juan-Presentacion.png
ORGANIZER;CN="Favuzza Missions":MAILTO:favuzzamissions@gmail.com
END:VEVENT
END:VCALENDAR