BEGIN:VCALENDAR
VERSION:2.0
PRODID:-//Favuzza Missions - ECPv6.15.20//NONSGML v1.0//EN
CALSCALE:GREGORIAN
METHOD:PUBLISH
X-WR-CALNAME:Favuzza Missions
X-ORIGINAL-URL:https://dougandbrittanyfavuzza.com
X-WR-CALDESC:Events for Favuzza Missions
REFRESH-INTERVAL;VALUE=DURATION:PT1H
X-Robots-Tag:noindex
X-PUBLISHED-TTL:PT1H
BEGIN:VTIMEZONE
TZID:America/New_York
BEGIN:DAYLIGHT
TZOFFSETFROM:-0500
TZOFFSETTO:-0400
TZNAME:EDT
DTSTART:20240310T070000
END:DAYLIGHT
BEGIN:STANDARD
TZOFFSETFROM:-0400
TZOFFSETTO:-0500
TZNAME:EST
DTSTART:20241103T060000
END:STANDARD
BEGIN:DAYLIGHT
TZOFFSETFROM:-0500
TZOFFSETTO:-0400
TZNAME:EDT
DTSTART:20250309T070000
END:DAYLIGHT
BEGIN:STANDARD
TZOFFSETFROM:-0400
TZOFFSETTO:-0500
TZNAME:EST
DTSTART:20251102T060000
END:STANDARD
BEGIN:DAYLIGHT
TZOFFSETFROM:-0500
TZOFFSETTO:-0400
TZNAME:EDT
DTSTART:20260308T070000
END:DAYLIGHT
BEGIN:STANDARD
TZOFFSETFROM:-0400
TZOFFSETTO:-0500
TZNAME:EST
DTSTART:20261101T060000
END:STANDARD
END:VTIMEZONE
BEGIN:VEVENT
DTSTART;VALUE=DATE:20250804
DTEND;VALUE=DATE:20250809
DTSTAMP:20260423T211606
CREATED:20250228T161004Z
LAST-MODIFIED:20250228T161004Z
UID:2209-1754265600-1754697599@dougandbrittanyfavuzza.com
SUMMARY:Doug and Brittany in Orlando
DESCRIPTION:
URL:https://dougandbrittanyfavuzza.com/event/doug-and-brittany-in-orlando/
CATEGORIES:Church Service
END:VEVENT
BEGIN:VEVENT
DTSTART;VALUE=DATE:20250817
DTEND;VALUE=DATE:20250818
DTSTAMP:20260423T211606
CREATED:20250523T185358Z
LAST-MODIFIED:20250523T185358Z
UID:2277-1755388800-1755475199@dougandbrittanyfavuzza.com
SUMMARY:Doug and Brittany in North Central PA
DESCRIPTION:
URL:https://dougandbrittanyfavuzza.com/event/doug-and-brittany-in-north-central-pa-3/
CATEGORIES:Church Service
END:VEVENT
BEGIN:VEVENT
DTSTART;VALUE=DATE:20250820
DTEND;VALUE=DATE:20250821
DTSTAMP:20260423T211606
CREATED:20250814T172152Z
LAST-MODIFIED:20250814T172342Z
UID:2344-1755648000-1755734399@dougandbrittanyfavuzza.com
SUMMARY:Doug and Brittany in Central\, PA
DESCRIPTION:
URL:https://dougandbrittanyfavuzza.com/event/doug-and-brittany-in-central-pa-9/
CATEGORIES:Church Service
END:VEVENT
BEGIN:VEVENT
DTSTART;VALUE=DATE:20250824
DTEND;VALUE=DATE:20250825
DTSTAMP:20260423T211606
CREATED:20250605T020154Z
LAST-MODIFIED:20250605T020154Z
UID:2285-1755993600-1756079999@dougandbrittanyfavuzza.com
SUMMARY:Doug and Brittany in South West\, PA
DESCRIPTION:
URL:https://dougandbrittanyfavuzza.com/event/doug-and-brittany-in-south-west-pa/
CATEGORIES:Church Service
END:VEVENT
BEGIN:VEVENT
DTSTART;VALUE=DATE:20250831
DTEND;VALUE=DATE:20250901
DTSTAMP:20260423T211606
CREATED:20250318T203832Z
LAST-MODIFIED:20250318T204039Z
UID:2229-1756598400-1756684799@dougandbrittanyfavuzza.com
SUMMARY:Doug and Brittany in Central PA
DESCRIPTION:
URL:https://dougandbrittanyfavuzza.com/event/doug-and-brittany-in-central-pa-4/
CATEGORIES:Church Service
END:VEVENT
END:VCALENDAR