BEGIN:VCALENDAR
VERSION:2.0
PRODID:-//Favuzza Missions - ECPv6.15.20//NONSGML v1.0//EN
CALSCALE:GREGORIAN
METHOD:PUBLISH
X-ORIGINAL-URL:https://dougandbrittanyfavuzza.com
X-WR-CALDESC:Events for Favuzza Missions
REFRESH-INTERVAL;VALUE=DURATION:PT1H
X-Robots-Tag:noindex
X-PUBLISHED-TTL:PT1H
BEGIN:VTIMEZONE
TZID:America/New_York
BEGIN:DAYLIGHT
TZOFFSETFROM:-0500
TZOFFSETTO:-0400
TZNAME:EDT
DTSTART:20240310T070000
END:DAYLIGHT
BEGIN:STANDARD
TZOFFSETFROM:-0400
TZOFFSETTO:-0500
TZNAME:EST
DTSTART:20241103T060000
END:STANDARD
BEGIN:DAYLIGHT
TZOFFSETFROM:-0500
TZOFFSETTO:-0400
TZNAME:EDT
DTSTART:20250309T070000
END:DAYLIGHT
BEGIN:STANDARD
TZOFFSETFROM:-0400
TZOFFSETTO:-0500
TZNAME:EST
DTSTART:20251102T060000
END:STANDARD
BEGIN:DAYLIGHT
TZOFFSETFROM:-0500
TZOFFSETTO:-0400
TZNAME:EDT
DTSTART:20260308T070000
END:DAYLIGHT
BEGIN:STANDARD
TZOFFSETFROM:-0400
TZOFFSETTO:-0500
TZNAME:EST
DTSTART:20261101T060000
END:STANDARD
END:VTIMEZONE
BEGIN:VEVENT
DTSTART;VALUE=DATE:20250504
DTEND;VALUE=DATE:20250505
DTSTAMP:20260424T013119
CREATED:20250228T155943Z
LAST-MODIFIED:20250228T155943Z
UID:2197-1746316800-1746403199@dougandbrittanyfavuzza.com
SUMMARY:Doug and Brittany in New England
DESCRIPTION:
URL:https://dougandbrittanyfavuzza.com/event/doug-and-brittany-in-new-england/
CATEGORIES:Church Service
END:VEVENT
BEGIN:VEVENT
DTSTART;VALUE=DATE:20250507
DTEND;VALUE=DATE:20250508
DTSTAMP:20260424T013119
CREATED:20250318T202830Z
LAST-MODIFIED:20250318T202830Z
UID:2223-1746576000-1746662399@dougandbrittanyfavuzza.com
SUMMARY:Doug and Brittany in South Carolina
DESCRIPTION:
URL:https://dougandbrittanyfavuzza.com/event/doug-and-brittany-in-south-carolina/
CATEGORIES:Church Service
END:VEVENT
BEGIN:VEVENT
DTSTART;VALUE=DATE:20250518
DTEND;VALUE=DATE:20250519
DTSTAMP:20260424T013119
CREATED:20250318T202958Z
LAST-MODIFIED:20250318T202958Z
UID:2225-1747526400-1747612799@dougandbrittanyfavuzza.com
SUMMARY:Doug and Brittany in Western PA
DESCRIPTION:
URL:https://dougandbrittanyfavuzza.com/event/doug-and-brittany-in-western-pa-2/
CATEGORIES:Church Service
END:VEVENT
BEGIN:VEVENT
DTSTART;VALUE=DATE:20250528
DTEND;VALUE=DATE:20250529
DTSTAMP:20260424T013119
CREATED:20250228T144810Z
LAST-MODIFIED:20250311T184602Z
UID:2192-1748390400-1748476799@dougandbrittanyfavuzza.com
SUMMARY:Visit to Wrightsville Church
DESCRIPTION:
URL:https://dougandbrittanyfavuzza.com/event/visit-to-wrightsville-church/
CATEGORIES:Church Service
END:VEVENT
BEGIN:VEVENT
DTSTART;VALUE=DATE:20250528
DTEND;VALUE=DATE:20250602
DTSTAMP:20260424T013119
CREATED:20250228T160316Z
LAST-MODIFIED:20250523T185057Z
UID:2201-1748390400-1748822399@dougandbrittanyfavuzza.com
SUMMARY:Doug and Brittany in Central PA
DESCRIPTION:
URL:https://dougandbrittanyfavuzza.com/event/doug-and-brittany-in-central-pa/
CATEGORIES:Church Service
END:VEVENT
END:VCALENDAR