BEGIN:VCALENDAR
VERSION:2.0
PRODID:-//Favuzza Missions - ECPv6.15.20//NONSGML v1.0//EN
CALSCALE:GREGORIAN
METHOD:PUBLISH
X-WR-CALNAME:Favuzza Missions
X-ORIGINAL-URL:https://dougandbrittanyfavuzza.com
X-WR-CALDESC:Events for Favuzza Missions
REFRESH-INTERVAL;VALUE=DURATION:PT1H
X-Robots-Tag:noindex
X-PUBLISHED-TTL:PT1H
BEGIN:VTIMEZONE
TZID:America/New_York
BEGIN:DAYLIGHT
TZOFFSETFROM:-0500
TZOFFSETTO:-0400
TZNAME:EDT
DTSTART:20220313T070000
END:DAYLIGHT
BEGIN:STANDARD
TZOFFSETFROM:-0400
TZOFFSETTO:-0500
TZNAME:EST
DTSTART:20221106T060000
END:STANDARD
BEGIN:DAYLIGHT
TZOFFSETFROM:-0500
TZOFFSETTO:-0400
TZNAME:EDT
DTSTART:20230312T070000
END:DAYLIGHT
BEGIN:STANDARD
TZOFFSETFROM:-0400
TZOFFSETTO:-0500
TZNAME:EST
DTSTART:20231105T060000
END:STANDARD
BEGIN:DAYLIGHT
TZOFFSETFROM:-0500
TZOFFSETTO:-0400
TZNAME:EDT
DTSTART:20240310T070000
END:DAYLIGHT
BEGIN:STANDARD
TZOFFSETFROM:-0400
TZOFFSETTO:-0500
TZNAME:EST
DTSTART:20241103T060000
END:STANDARD
BEGIN:DAYLIGHT
TZOFFSETFROM:-0500
TZOFFSETTO:-0400
TZNAME:EDT
DTSTART:20250309T070000
END:DAYLIGHT
BEGIN:STANDARD
TZOFFSETFROM:-0400
TZOFFSETTO:-0500
TZNAME:EST
DTSTART:20251102T060000
END:STANDARD
END:VTIMEZONE
BEGIN:VTIMEZONE
TZID:America/Argentina/Buenos_Aires
BEGIN:STANDARD
TZOFFSETFROM:-0300
TZOFFSETTO:-0300
TZNAME:-03
DTSTART:20210101T000000
END:STANDARD
END:VTIMEZONE
BEGIN:VEVENT
DTSTART;VALUE=DATE:20240726
DTEND;VALUE=DATE:20240728
DTSTAMP:20260423T182505
CREATED:20240423T191124Z
LAST-MODIFIED:20240423T192056Z
UID:1907-1721952000-1722124799@dougandbrittanyfavuzza.com
SUMMARY:Pre-Campaign Trainings Zarate and Lima
DESCRIPTION:
URL:https://dougandbrittanyfavuzza.com/event/pre-campaign-trainings-zarate-and-lima/
LOCATION:Argentina\, Argentina
CATEGORIES:Crusades
ORGANIZER;CN="Favuzza Missions":MAILTO:favuzzamissions@gmail.com
END:VEVENT
BEGIN:VEVENT
DTSTART;VALUE=DATE:20240724
DTEND;VALUE=DATE:20240725
DTSTAMP:20260423T182505
CREATED:20240423T192012Z
LAST-MODIFIED:20240423T192012Z
UID:1914-1721779200-1721865599@dougandbrittanyfavuzza.com
SUMMARY:Extreme Street Evangelism at Lima
DESCRIPTION:
URL:https://dougandbrittanyfavuzza.com/event/extreme-street-evangelism-at-lima/
LOCATION:Argentina\, Argentina
CATEGORIES:Crusades
ORGANIZER;CN="Favuzza Missions":MAILTO:favuzzamissions@gmail.com
END:VEVENT
BEGIN:VEVENT
DTSTART;TZID=America/New_York:20240719T190000
DTEND;TZID=America/New_York:20240721T183000
DTSTAMP:20260423T182505
CREATED:20240423T190351Z
LAST-MODIFIED:20240424T144305Z
UID:1894-1721415600-1721586600@dougandbrittanyfavuzza.com
SUMMARY:Conference of Worship 2024 by Project John 4:24 - Buenos Aires
DESCRIPTION:Conference of Worship 2024 by Project John 4:24 – Buenos Aires\nSessions focus on personal and powerful moments in the presence of God. All participants will have the opportunity to observe a practical model of music and prayer\, as well as to ask questions to our team and engage in small group work. Attendees will see examples of our team singing and praying the Word\, and will learn how to apply it in various contexts\, such as church services\, small prayer gatherings\, or discipleship groups. Douglas and Brittany firmly believe that these tools are extremely powerful for a church that wants to help new believers grow in the Word of God. Additionally\, attendees will learn tools to experience personal revival and\, as a result\, impact the world around them for the glory of God. \nLocation: “Herederos” Church\, Brig. Gral. Juan Manuel de Rosas 15837 – Gonzáles Catán\, La Matanza\, Buenos Aires. \nConference Price: $7000 (April-May) / $9000 (June)\nGroup Price: More than 7 people: $5000
URL:https://dougandbrittanyfavuzza.com/event/conference-of-worship-2024-by-project-john-424-buenos-aires/
LOCATION:Buenos Aires\, Argentina
CATEGORIES:Equipping
ATTACH;FMTTYPE=image/png:https://dougandbrittanyfavuzza.com/wp-content/uploads/2024/04/4-1.png
ORGANIZER;CN="Favuzza Missions":MAILTO:favuzzamissions@gmail.com
END:VEVENT
BEGIN:VEVENT
DTSTART;TZID=America/New_York:20240705T190000
DTEND;TZID=America/New_York:20240707T120000
DTSTAMP:20260423T182505
CREATED:20240423T185749Z
LAST-MODIFIED:20240424T144212Z
UID:1886-1720206000-1720353600@dougandbrittanyfavuzza.com
SUMMARY:Conference of Worship 2024 by Project John 4:24 - Catamarca
DESCRIPTION:Conference of Worship 2024 by Project John 4:24 – Catamarca\nThe sessions focus on personal and powerful moments in the presence of God. All participants will have the opportunity to observe a practical model of music and prayer\, as well as to ask questions to our team and work in small groups. Attendees will see examples of our team singing and praying the Word\, and they will learn how to apply it in various contexts\, such as church services\, small prayer meetings\, or discipleship groups. Douglas and Brittany firmly believe that these tools are extremely powerful for a church that desires to help new believers grow in the Word of God. Additionally\, attendees will learn tools to experience personal revival and\, as a result\, impact the world around them for the glory of God. \nLocation: Church “Ministerio Jesús el Buen Pastor”\, Dr. Teodulfo Barrionuevo 1506 – San Fernando del Valle de Catamarca\, Catamarca \nConference Price: $7000 (April-May) / $9000 (June)\nGroup Price: More than 7 people: $5000
URL:https://dougandbrittanyfavuzza.com/event/conference-of-worship-2024-by-project-john-424/
LOCATION:Catamarca\, Argentina
CATEGORIES:Equipping
ATTACH;FMTTYPE=image/png:https://dougandbrittanyfavuzza.com/wp-content/uploads/2024/04/Afiche-Conferencia-Proyecto-Juan-Presentacion.png
ORGANIZER;CN="Favuzza Missions":MAILTO:favuzzamissions@gmail.com
END:VEVENT
BEGIN:VEVENT
DTSTART;TZID=America/New_York:20240519T100000
DTEND;TZID=America/New_York:20240519T120000
DTSTAMP:20260423T182505
CREATED:20240423T184832Z
LAST-MODIFIED:20240424T144113Z
UID:1883-1716112800-1716120000@dougandbrittanyfavuzza.com
SUMMARY:Devotional Leadership and Teams at Ezpeleta
DESCRIPTION:Lugar: Centro de Adoración Familiar OASIS (Moreno\, Argentina)\nHorario: 10:00 – 12:00
URL:https://dougandbrittanyfavuzza.com/event/devotional-leadership-and-teams-at-ezpeleta/
LOCATION:Buenos Aires\, Argentina
CATEGORIES:Church Service
END:VEVENT
BEGIN:VEVENT
DTSTART;TZID=America/New_York:20240518T173000
DTEND;TZID=America/New_York:20240518T220000
DTSTAMP:20260423T182505
CREATED:20240423T184608Z
LAST-MODIFIED:20240424T144133Z
UID:1881-1716053400-1716069600@dougandbrittanyfavuzza.com
SUMMARY:Workshop of Worship in Ezpeleta
DESCRIPTION:Lugar: Centro de Adoración Familiar OASIS (Moreno\, Argentina)\nHorario: 17:30 – 22:00
URL:https://dougandbrittanyfavuzza.com/event/workshop-of-worship-in-ezpeleta/
LOCATION:Buenos Aires\, Argentina
CATEGORIES:Equipping
END:VEVENT
BEGIN:VEVENT
DTSTART;VALUE=DATE:20240416
DTEND;VALUE=DATE:20240417
DTSTAMP:20260423T182505
CREATED:20240423T183620Z
LAST-MODIFIED:20240423T192114Z
UID:1878-1713225600-1713311999@dougandbrittanyfavuzza.com
SUMMARY:Pastoral Pre-campaign Breakfast Lima and Zárate
DESCRIPTION:
URL:https://dougandbrittanyfavuzza.com/event/pastoral-pre-campaign-breakfast-lima-and-zarate/
CATEGORIES:Crusades
END:VEVENT
BEGIN:VEVENT
DTSTART;VALUE=DATE:20240219
DTEND;VALUE=DATE:20240223
DTSTAMP:20260423T182505
CREATED:20231128T215743Z
LAST-MODIFIED:20231128T220042Z
UID:1457-1708300800-1708646399@dougandbrittanyfavuzza.com
SUMMARY:Campaña "Fiesta para la Familia\, La Rioja"
DESCRIPTION:
URL:https://dougandbrittanyfavuzza.com/event/campana-fiesta-para-la-familia-la-rioja/
CATEGORIES:Crusades
END:VEVENT
BEGIN:VEVENT
DTSTART;VALUE=DATE:20240122
DTEND;VALUE=DATE:20240129
DTSTAMP:20260423T182505
CREATED:20230508T222225Z
LAST-MODIFIED:20231128T220115Z
UID:1427-1705881600-1706486399@dougandbrittanyfavuzza.com
SUMMARY:Campaña "Chóco Hay Esperanza"
DESCRIPTION:
URL:https://dougandbrittanyfavuzza.com/event/campana-el-choco/
CATEGORIES:Crusades
ATTACH;FMTTYPE=image/png:https://dougandbrittanyfavuzza.com/wp-content/uploads/2023/05/PANTALLASTV.png
END:VEVENT
BEGIN:VEVENT
DTSTART;VALUE=DATE:20231207
DTEND;VALUE=DATE:20231211
DTSTAMP:20260423T182505
CREATED:20231128T215654Z
LAST-MODIFIED:20231128T220053Z
UID:1454-1701907200-1702252799@dougandbrittanyfavuzza.com
SUMMARY:Pre-campaña La Rioja
DESCRIPTION:
URL:https://dougandbrittanyfavuzza.com/event/pre-campana-la-rioja/
CATEGORIES:Equipping
ATTACH;FMTTYPE=image/png:https://dougandbrittanyfavuzza.com/wp-content/uploads/2023/11/PANTALLASTV.png
END:VEVENT
BEGIN:VEVENT
DTSTART;VALUE=DATE:20231201
DTEND;VALUE=DATE:20231202
DTSTAMP:20260423T182505
CREATED:20231128T215356Z
LAST-MODIFIED:20231128T220740Z
UID:1450-1701388800-1701475199@dougandbrittanyfavuzza.com
SUMMARY:Campaña "Formosa Clama"
DESCRIPTION:Una noche inédita se avecina en #LasLomitas  ¡Formosa Clama! El calendario está marcado y los cielos se abren sobre Las Lomitas para vivir una noche que será inolvidable de #fe\, #adoración y #clamor. Contaremos con la presencia especial de : Ev. Coty Annacondia\, Ev. Antonio Kerikian Ministerios \, Ap. Jorge Márquez\, Ap. Andrés González\, Douglas & Brittany Favuzza\, Presidente del consejo pastoral de Formosa: Ap. Ramon Leiva Pr. Ruben Omar Falcon \, Banda Misión Vida Argentina\, Gabriel Bazán y mucho más. Se llevará a cabo el 01 de diciembre en el hermoso pulmón verde de Las Lomitas\, con entradas libres y gratuitas.\nMás información al: 3715405584\n#FormosaClama #NosPreparamos #misiónvidaparalasnaciones
URL:https://dougandbrittanyfavuzza.com/event/campana-formosa-clama/
CATEGORIES:Crusades
ATTACH;FMTTYPE=image/jpeg:https://dougandbrittanyfavuzza.com/wp-content/uploads/2023/11/395620962_6756088324467321_4074435254674627552_n.jpg
END:VEVENT
BEGIN:VEVENT
DTSTART;TZID=America/New_York:20230905T083000
DTEND;TZID=America/New_York:20230905T210000
DTSTAMP:20260423T182505
CREATED:20230809T185839Z
LAST-MODIFIED:20230809T185839Z
UID:1442-1693902600-1693947600@dougandbrittanyfavuzza.com
SUMMARY:Intercession Online | FIRST LIVE PRAYER MEETING
DESCRIPTION:TUESDAY\, THE 5TH OF SEPTEMBER!\nWe and our team will be leading in English a prayer meeting the first Tuesday of every month (unless we notify otherwise if we are traveling\, etc.). We are entering into a time of intense work\, but we need to strengthen our army that surrounds us in prayer. The spiritual warfare with every trip we take is heavy and we know with the intercession of our family and friends we can continue moving forward into the enemy’s camp. \nJoin us at 8:30 pm – 9:00 est for the prayer meeting in English. 9:00-9:30 est\, the prayer meeting will be led in Spanish. BelieveGod together with us!! Follow our social media pages or sign up to receive our newsletters by emailing favuzzamissions@gmail.com and we will provide all the information how to log on and all details in the coming weeks! You can join only audio or audio and video. We can’t do this without you!! Thank you for believing God with us!
URL:https://dougandbrittanyfavuzza.com/event/intercession-online-first-live-prayer-meeting/
CATEGORIES:All Events
ATTACH;FMTTYPE=image/jpeg:https://dougandbrittanyfavuzza.com/wp-content/uploads/2023/08/Imagen-de-WhatsApp-2023-08-09-a-las-13.06.02.jpg
END:VEVENT
BEGIN:VEVENT
DTSTART;VALUE=DATE:20230826
DTEND;VALUE=DATE:20230827
DTSTAMP:20260423T182505
CREATED:20230508T222140Z
LAST-MODIFIED:20230508T222214Z
UID:1425-1693008000-1693094399@dougandbrittanyfavuzza.com
SUMMARY:Proyecto Juan Módulo 2 - Buenos Aires
DESCRIPTION:
URL:https://dougandbrittanyfavuzza.com/event/proyecto-juan-modulo-2-buenos-aires/
END:VEVENT
BEGIN:VEVENT
DTSTART;VALUE=DATE:20230825
DTEND;VALUE=DATE:20230827
DTSTAMP:20260423T182505
CREATED:20230606T152208Z
LAST-MODIFIED:20230606T152208Z
UID:1439-1692921600-1693094399@dougandbrittanyfavuzza.com
SUMMARY:Proyecto Juan 4:24 - Aguarai - Salta
DESCRIPTION:Módulo introductorio Pueblos Originarios
URL:https://dougandbrittanyfavuzza.com/event/proyecto-juan-424-aguarai-salta/
END:VEVENT
BEGIN:VEVENT
DTSTART;VALUE=DATE:20230807
DTEND;VALUE=DATE:20230808
DTSTAMP:20260423T182505
CREATED:20230606T152040Z
LAST-MODIFIED:20230606T152040Z
UID:1436-1691366400-1691452799@dougandbrittanyfavuzza.com
SUMMARY:Desayuno de pastores - Bogotá - Colombia
DESCRIPTION:
URL:https://dougandbrittanyfavuzza.com/event/desayuno-de-pastores-bogota-colombia/
END:VEVENT
BEGIN:VEVENT
DTSTART;VALUE=DATE:20230804
DTEND;VALUE=DATE:20230807
DTSTAMP:20260423T182505
CREATED:20230606T151956Z
LAST-MODIFIED:20230606T151956Z
UID:1434-1691107200-1691366399@dougandbrittanyfavuzza.com
SUMMARY:Entrenamientos y Pre-campaña El Chocó - Colombia
DESCRIPTION:
URL:https://dougandbrittanyfavuzza.com/event/entrenamientos-y-pre-campana-el-choco-colombia/
END:VEVENT
BEGIN:VEVENT
DTSTART;VALUE=DATE:20230707
DTEND;VALUE=DATE:20230708
DTSTAMP:20260423T182505
CREATED:20230606T151903Z
LAST-MODIFIED:20230606T151903Z
UID:1432-1688688000-1688774399@dougandbrittanyfavuzza.com
SUMMARY:Desayuno de pastores - Santa Cruz - Bolivia
DESCRIPTION:
URL:https://dougandbrittanyfavuzza.com/event/desayuno-de-pastores-santa-cruz-bolivia/
END:VEVENT
BEGIN:VEVENT
DTSTART;VALUE=DATE:20230703
DTEND;VALUE=DATE:20230707
DTSTAMP:20260423T182505
CREATED:20230508T222010Z
LAST-MODIFIED:20230508T222122Z
UID:1423-1688342400-1688687999@dougandbrittanyfavuzza.com
SUMMARY:Campaña Montero - Bolivia
DESCRIPTION:
URL:https://dougandbrittanyfavuzza.com/event/campana-montero-bolivia/
END:VEVENT
BEGIN:VEVENT
DTSTART;VALUE=DATE:20230701
DTEND;VALUE=DATE:20230702
DTSTAMP:20260423T182505
CREATED:20230508T221138Z
LAST-MODIFIED:20230508T222006Z
UID:1421-1688169600-1688255999@dougandbrittanyfavuzza.com
SUMMARY:Proyecto Juan Módulo 2 - Salta
DESCRIPTION:
URL:https://dougandbrittanyfavuzza.com/event/proyecto-juan-modulo-2-salta/
END:VEVENT
BEGIN:VEVENT
DTSTART;VALUE=DATE:20230623
DTEND;VALUE=DATE:20230625
DTSTAMP:20260423T182505
CREATED:20230508T220947Z
LAST-MODIFIED:20230508T221040Z
UID:1419-1687478400-1687651199@dougandbrittanyfavuzza.com
SUMMARY:Proyecto Juan Módulo 2 - Misiones
DESCRIPTION:
URL:https://dougandbrittanyfavuzza.com/event/proyecto-juan-modulo-2-misiones/
END:VEVENT
BEGIN:VEVENT
DTSTART;VALUE=DATE:20230609
DTEND;VALUE=DATE:20230610
DTSTAMP:20260423T182505
CREATED:20230508T220857Z
LAST-MODIFIED:20230606T151454Z
UID:1417-1686268800-1686355199@dougandbrittanyfavuzza.com
SUMMARY:Campaña La Matanza- Buenos Aires
DESCRIPTION:
URL:https://dougandbrittanyfavuzza.com/event/campana-palmasola-jujuy/
END:VEVENT
BEGIN:VEVENT
DTSTART;TZID=America/New_York:20230602T193000
DTEND;TZID=America/New_York:20230602T230000
DTSTAMP:20260423T182505
CREATED:20230508T220737Z
LAST-MODIFIED:20230508T220847Z
UID:1415-1685734200-1685746800@dougandbrittanyfavuzza.com
SUMMARY:Campaña Iglesia Heredero - Buenos Aires
DESCRIPTION:
URL:https://dougandbrittanyfavuzza.com/event/campana-iglesia-heredero-buenos-aires/
END:VEVENT
BEGIN:VEVENT
DTSTART;TZID=America/Argentina/Buenos_Aires:20230526T100000
DTEND;TZID=America/Argentina/Buenos_Aires:20230527T150000
DTSTAMP:20260423T182505
CREATED:20220916T223529Z
LAST-MODIFIED:20230320T230943Z
UID:1015-1685095200-1685199600@dougandbrittanyfavuzza.com
SUMMARY:Proyecto Juan 4:24 Buenos Aires 2023
DESCRIPTION:Worship & Prayer School for the second time in Buenos Aires.\nWe launched the second season of Proyecto Juan 4:24 in Buenos Aires. Registration is now open: shorturl.at/tJT06 \nBUENOS AIRES\nMódulos 1: Mayo 26 – 27\nMódulo 2: Coming soon \nProject John 4:24  is a worship and discipleship intensive school for local churches worship teams\, pastors and discipleship leaders. The overall vision of Project John 4:24 is to train the church in a musical prayer and worship model to help new believers learn theology just like one of the ways the early church taught new believers; singing and praying the scriptures.
URL:https://dougandbrittanyfavuzza.com/event/projecto-juan-buenos-aires/
CATEGORIES:All Events,Equipping
ATTACH;FMTTYPE=image/jpeg:https://dougandbrittanyfavuzza.com/wp-content/uploads/2022/09/PJ424-Buenos-Aires.jpg
ORGANIZER;CN="Favuzza Missions":MAILTO:favuzzamissions@gmail.com
END:VEVENT
BEGIN:VEVENT
DTSTART;TZID=America/New_York:20230421T080000
DTEND;TZID=America/New_York:20230423T170000
DTSTAMP:20260423T182505
CREATED:20230320T230752Z
LAST-MODIFIED:20230320T230917Z
UID:1357-1682064000-1682269200@dougandbrittanyfavuzza.com
SUMMARY:Campaign Santa María\, Catamarca
DESCRIPTION:
URL:https://dougandbrittanyfavuzza.com/event/campana-santa-maria-catamarca/
CATEGORIES:Crusades
ATTACH;FMTTYPE=image/jpeg:https://dougandbrittanyfavuzza.com/wp-content/uploads/2023/03/santa-maria-catamarca.jpg
END:VEVENT
BEGIN:VEVENT
DTSTART;TZID=America/New_York:20230327T160000
DTEND;TZID=America/New_York:20230327T200000
DTSTAMP:20260423T182505
CREATED:20230321T164009Z
LAST-MODIFIED:20230321T204150Z
UID:1378-1679932800-1679947200@dougandbrittanyfavuzza.com
SUMMARY:Training with Project John students from Season 2022
DESCRIPTION:On Monday the 27th we will have a reunion with some students\, graduates of 2022 of the Project John 4:24\, where we will review the pillars of worship and train in a deeper way in the musical creativity of the Harp and Bowl model. We know that singing and praying the word is a blessing for their lives and the guests are eager to continue learning! We ask for your prayers for this time.\n 
URL:https://dougandbrittanyfavuzza.com/event/training-project-john-students/
LOCATION:Carlos Calvo 884\, Carlos Calvo 884\, Buenos Aires\, Argentina
CATEGORIES:Equipping
ATTACH;FMTTYPE=image/jpeg:https://dougandbrittanyfavuzza.com/wp-content/uploads/2023/03/3.jpg
END:VEVENT
BEGIN:VEVENT
DTSTART;TZID=America/Argentina/Buenos_Aires:20230309T093000
DTEND;TZID=America/Argentina/Buenos_Aires:20230311T220000
DTSTAMP:20260423T182505
CREATED:20221215T215239Z
LAST-MODIFIED:20221215T224644Z
UID:1323-1678354200-1678572000@dougandbrittanyfavuzza.com
SUMMARY:Projecto Juan 4:24 in Misiones
DESCRIPTION:Proyecto Juan 4:24 in Misiones for the first time.\nThis year\, 2023\, we will be doing Project John 4:24 for the first time\, in Misiones\, Argentina. We are very excited about it. Registration is now open. \nSerán 2 Módulos: \nMódulo 1: Marzo 9 – 11\nMódulo 2: Junio 22 – 24 \nProject John 4:24  is a worship and discipleship intensive school for local churches worship teams\, pastors and discipleship leaders. The overall vision of Project John 4:24 is to train the church in a musical prayer and worship model to help new believers learn theology just like one of the ways the early church taught new believers; singing and praying the scriptures.
URL:https://dougandbrittanyfavuzza.com/event/projecto-juan-424-in-misiones/
CATEGORIES:All Events,Equipping
ATTACH;FMTTYPE=image/jpeg:https://dougandbrittanyfavuzza.com/wp-content/uploads/2022/12/PJ424-Misiones.jpg
ORGANIZER;CN="Favuzza Missions":MAILTO:favuzzamissions@gmail.com
END:VEVENT
BEGIN:VEVENT
DTSTART;TZID=America/Argentina/Buenos_Aires:20230302T000000
DTEND;TZID=America/Argentina/Buenos_Aires:20230304T235900
DTSTAMP:20260423T182505
CREATED:20221215T222503Z
LAST-MODIFIED:20230123T215408Z
UID:1335-1677715200-1677974340@dougandbrittanyfavuzza.com
SUMMARY:Santiago de Chile - Chile Crusade
DESCRIPTION:Support the Chile Crusade\n 
URL:https://dougandbrittanyfavuzza.com/event/chile-crusade/
CATEGORIES:All Events,Crusades
ATTACH;FMTTYPE=image/jpeg:https://dougandbrittanyfavuzza.com/wp-content/uploads/2022/12/Cruzada-de-Chile-1.jpg
ORGANIZER;CN="Favuzza Missions":MAILTO:favuzzamissions@gmail.com
END:VEVENT
BEGIN:VEVENT
DTSTART;TZID=America/Argentina/Buenos_Aires:20230224T093000
DTEND;TZID=America/Argentina/Buenos_Aires:20230225T220000
DTSTAMP:20260423T182505
CREATED:20221215T211009Z
LAST-MODIFIED:20230124T020500Z
UID:1317-1677231000-1677362400@dougandbrittanyfavuzza.com
SUMMARY:Projecto Juan 4:24 in Salta
DESCRIPTION:Proyecto Juan 4:24 in Salta for the first time.\nThis year\, 2023\, we will be doing Project John 4:24 for the first time\, in Salta\, Argentina. We are very excited about it. Registration is now open. \nMódulo 1: Febrero 24 – 25\nMódulo 2: Junio 30 y Julio 1 \nhttps://youtu.be/cUBlBYInE5M \nProject John 4:24  is a worship and discipleship intensive school for local churches worship teams\, pastors and discipleship leaders. The overall vision of Project John 4:24 is to train the church in a musical prayer and worship model to help new believers learn theology just like one of the ways the early church taught new believers; singing and praying the scriptures.
URL:https://dougandbrittanyfavuzza.com/event/projecto-juan-424-in-salta/
CATEGORIES:All Events,Equipping
ATTACH;FMTTYPE=image/jpeg:https://dougandbrittanyfavuzza.com/wp-content/uploads/2022/12/Sin-titulo-1.jpg
ORGANIZER;CN="Favuzza Missions":MAILTO:favuzzamissions@gmail.com
END:VEVENT
BEGIN:VEVENT
DTSTART;TZID=America/Argentina/Buenos_Aires:20221101T190000
DTEND;TZID=America/Argentina/Buenos_Aires:20221101T220000
DTSTAMP:20260423T182505
CREATED:20221031T202243Z
LAST-MODIFIED:20221031T203015Z
UID:1303-1667329200-1667340000@dougandbrittanyfavuzza.com
SUMMARY:Special service Iglesia La Vid Verdadera
DESCRIPTION:Special church reunion at Iglesia la Vid Verdadera\, Buenos Aires\, Argentina\n 
URL:https://dougandbrittanyfavuzza.com/event/special-service-iglesia-la-vid-verdadera/
CATEGORIES:All Events,Church Service,Outreach
ATTACH;FMTTYPE=image/jpeg:https://dougandbrittanyfavuzza.com/wp-content/uploads/2022/10/Darios-church-event-2022.jpeg
ORGANIZER;CN="Favuzza Missions":MAILTO:favuzzamissions@gmail.com
END:VEVENT
BEGIN:VEVENT
DTSTART;VALUE=DATE:20220928
DTEND;VALUE=DATE:20221002
DTSTAMP:20260423T182505
CREATED:20220916T221541Z
LAST-MODIFIED:20220920T182902Z
UID:1004-1664323200-1664668799@dougandbrittanyfavuzza.com
SUMMARY:City Wide Crusade - Yacuiba\, Bolivia
DESCRIPTION:Support the City Wide Crusade in Yacuiba\, Bolivia\n 
URL:https://dougandbrittanyfavuzza.com/event/city-wide-crusade-yacuiba-bolivia/
CATEGORIES:All Events,Crusades
ATTACH;FMTTYPE=image/jpeg:https://dougandbrittanyfavuzza.com/wp-content/uploads/2022/09/yacuiba.jpg
ORGANIZER;CN="Favuzza Missions":MAILTO:favuzzamissions@gmail.com
END:VEVENT
END:VCALENDAR