BEGIN:VCALENDAR
VERSION:2.0
PRODID:-//Favuzza Missions - ECPv6.15.20//NONSGML v1.0//EN
CALSCALE:GREGORIAN
METHOD:PUBLISH
X-WR-CALNAME:Favuzza Missions
X-ORIGINAL-URL:https://dougandbrittanyfavuzza.com
X-WR-CALDESC:Events for Favuzza Missions
REFRESH-INTERVAL;VALUE=DURATION:PT1H
X-Robots-Tag:noindex
X-PUBLISHED-TTL:PT1H
BEGIN:VTIMEZONE
TZID:America/New_York
BEGIN:DAYLIGHT
TZOFFSETFROM:-0500
TZOFFSETTO:-0400
TZNAME:EDT
DTSTART:20250309T070000
END:DAYLIGHT
BEGIN:STANDARD
TZOFFSETFROM:-0400
TZOFFSETTO:-0500
TZNAME:EST
DTSTART:20251102T060000
END:STANDARD
BEGIN:DAYLIGHT
TZOFFSETFROM:-0500
TZOFFSETTO:-0400
TZNAME:EDT
DTSTART:20260308T070000
END:DAYLIGHT
BEGIN:STANDARD
TZOFFSETFROM:-0400
TZOFFSETTO:-0500
TZNAME:EST
DTSTART:20261101T060000
END:STANDARD
BEGIN:DAYLIGHT
TZOFFSETFROM:-0500
TZOFFSETTO:-0400
TZNAME:EDT
DTSTART:20270314T070000
END:DAYLIGHT
BEGIN:STANDARD
TZOFFSETFROM:-0400
TZOFFSETTO:-0500
TZNAME:EST
DTSTART:20271107T060000
END:STANDARD
END:VTIMEZONE
BEGIN:VEVENT
DTSTART;VALUE=DATE:20260222
DTEND;VALUE=DATE:20260323
DTSTAMP:20260423T160811
CREATED:20250814T174939Z
LAST-MODIFIED:20250814T175154Z
UID:2356-1771718400-1774223999@dougandbrittanyfavuzza.com
SUMMARY:Doug and Brittany in NJ Spring Tour
DESCRIPTION:
URL:https://dougandbrittanyfavuzza.com/event/doug-and-brittany-in-nj-spring-tour/
CATEGORIES:Church Service
END:VEVENT
BEGIN:VEVENT
DTSTART;TZID=America/New_York:20260310T090000
DTEND;TZID=America/New_York:20260310T110000
DTSTAMP:20260423T160811
CREATED:20260116T164621Z
LAST-MODIFIED:20260116T164621Z
UID:2466-1773133200-1773140400@dougandbrittanyfavuzza.com
SUMMARY:Rockaway AG\, Rockaway NJ - North and NW
DESCRIPTION:
URL:https://dougandbrittanyfavuzza.com/event/rockaway-ag-rockaway-nj-north-and-nw/
CATEGORIES:Church Service
END:VEVENT
BEGIN:VEVENT
DTSTART;TZID=America/New_York:20260310T140000
DTEND;TZID=America/New_York:20260310T160000
DTSTAMP:20260423T160811
CREATED:20260116T164826Z
LAST-MODIFIED:20260116T164826Z
UID:2468-1773151200-1773158400@dougandbrittanyfavuzza.com
SUMMARY:Calvary AG\, Springfield\, NJ - North and NW
DESCRIPTION:
URL:https://dougandbrittanyfavuzza.com/event/calvary-ag-springfield-nj-north-and-nw/
END:VEVENT
BEGIN:VEVENT
DTSTART;TZID=America/New_York:20260312T090000
DTEND;TZID=America/New_York:20260312T110000
DTSTAMP:20260423T160811
CREATED:20260116T164915Z
LAST-MODIFIED:20260116T164915Z
UID:2470-1773306000-1773313200@dougandbrittanyfavuzza.com
SUMMARY:Bethel Church\, Blackwood\, NJ - S and WCS
DESCRIPTION:
URL:https://dougandbrittanyfavuzza.com/event/bethel-church-blackwood-nj-s-and-wcs/
END:VEVENT
BEGIN:VEVENT
DTSTART;TZID=America/New_York:20260312T140000
DTEND;TZID=America/New_York:20260312T160000
DTSTAMP:20260423T160811
CREATED:20260116T165011Z
LAST-MODIFIED:20260116T165011Z
UID:2472-1773324000-1773331200@dougandbrittanyfavuzza.com
SUMMARY:First AG Freehold\, Freehold\, NJ - ECS and WCN
DESCRIPTION:
URL:https://dougandbrittanyfavuzza.com/event/first-ag-freehold-freehold-nj-ecs-and-wcn/
END:VEVENT
BEGIN:VEVENT
DTSTART;VALUE=DATE:20260329
DTEND;VALUE=DATE:20260330
DTSTAMP:20260423T160811
CREATED:20251205T182455Z
LAST-MODIFIED:20251205T182455Z
UID:2457-1774742400-1774828799@dougandbrittanyfavuzza.com
SUMMARY:Doug and Brittany in Central\, NJ
DESCRIPTION:
URL:https://dougandbrittanyfavuzza.com/event/doug-and-brittany-in-central-nj/
CATEGORIES:Church Service
END:VEVENT
BEGIN:VEVENT
DTSTART;VALUE=DATE:20260412
DTEND;VALUE=DATE:20260413
DTSTAMP:20260423T160811
CREATED:20250814T175713Z
LAST-MODIFIED:20250814T175730Z
UID:2358-1775952000-1776038399@dougandbrittanyfavuzza.com
SUMMARY:Doug and Brittany in Central\, PA
DESCRIPTION:
URL:https://dougandbrittanyfavuzza.com/event/doug-and-brittany-in-central-pa-12/
CATEGORIES:Church Service
END:VEVENT
BEGIN:VEVENT
DTSTART;VALUE=DATE:20260419
DTEND;VALUE=DATE:20260420
DTSTAMP:20260423T160811
CREATED:20251205T182609Z
LAST-MODIFIED:20251205T182609Z
UID:2459-1776556800-1776643199@dougandbrittanyfavuzza.com
SUMMARY:Doug and Brittany in Central\, PA
DESCRIPTION:
URL:https://dougandbrittanyfavuzza.com/event/doug-and-brittany-in-central-pa-13/
CATEGORIES:Church Service
END:VEVENT
BEGIN:VEVENT
DTSTART;VALUE=DATE:20260422
DTEND;VALUE=DATE:20260423
DTSTAMP:20260423T160811
CREATED:20260402T012424Z
LAST-MODIFIED:20260402T012424Z
UID:2709-1776816000-1776902399@dougandbrittanyfavuzza.com
SUMMARY:Doug and Brittany in Western\, MA
DESCRIPTION:
URL:https://dougandbrittanyfavuzza.com/event/doug-and-brittany-in-western-ma-2/
CATEGORIES:Church Service
END:VEVENT
BEGIN:VEVENT
DTSTART;VALUE=DATE:20260426
DTEND;VALUE=DATE:20260430
DTSTAMP:20260423T160811
CREATED:20260402T012742Z
LAST-MODIFIED:20260402T012742Z
UID:2711-1777161600-1777507199@dougandbrittanyfavuzza.com
SUMMARY:Doug and Brittany in Central\, PA
DESCRIPTION:
URL:https://dougandbrittanyfavuzza.com/event/doug-and-brittany-in-central-pa-14/
CATEGORIES:Church Service
END:VEVENT
BEGIN:VEVENT
DTSTART;VALUE=DATE:20260503
DTEND;VALUE=DATE:20260504
DTSTAMP:20260423T160811
CREATED:20251205T182648Z
LAST-MODIFIED:20251205T182738Z
UID:2461-1777766400-1777852799@dougandbrittanyfavuzza.com
SUMMARY:Doug and Brittany in Western\, PA
DESCRIPTION:
URL:https://dougandbrittanyfavuzza.com/event/doug-and-brittany-in-western-ma/
CATEGORIES:Church Service
END:VEVENT
BEGIN:VEVENT
DTSTART;VALUE=DATE:20260504
DTEND;VALUE=DATE:20260506
DTSTAMP:20260423T160811
CREATED:20260402T012900Z
LAST-MODIFIED:20260402T013010Z
UID:2713-1777852800-1778025599@dougandbrittanyfavuzza.com
SUMMARY:Doug and Brittany in Northern\, NJ
DESCRIPTION:
URL:https://dougandbrittanyfavuzza.com/event/doug-and-brittany-in-western-pa-5/
CATEGORIES:Church Service
END:VEVENT
BEGIN:VEVENT
DTSTART;VALUE=DATE:20260510
DTEND;VALUE=DATE:20260511
DTSTAMP:20260423T160811
CREATED:20260402T013110Z
LAST-MODIFIED:20260402T013110Z
UID:2715-1778371200-1778457599@dougandbrittanyfavuzza.com
SUMMARY:Doug and Brittany in Western\, PA
DESCRIPTION:
URL:https://dougandbrittanyfavuzza.com/event/doug-and-brittany-in-western-pa-6/
CATEGORIES:Church Service
END:VEVENT
BEGIN:VEVENT
DTSTART;VALUE=DATE:20260517
DTEND;VALUE=DATE:20260523
DTSTAMP:20260423T160811
CREATED:20260402T013156Z
LAST-MODIFIED:20260402T013156Z
UID:2718-1778976000-1779494399@dougandbrittanyfavuzza.com
SUMMARY:Doug and Brittany in Buffalo\, NY
DESCRIPTION:
URL:https://dougandbrittanyfavuzza.com/event/doug-and-brittany-in-buffalo-ny/
CATEGORIES:Church Service
END:VEVENT
BEGIN:VEVENT
DTSTART;VALUE=DATE:20260524
DTEND;VALUE=DATE:20260525
DTSTAMP:20260423T160811
CREATED:20260402T013235Z
LAST-MODIFIED:20260402T013235Z
UID:2720-1779580800-1779667199@dougandbrittanyfavuzza.com
SUMMARY:Doug and Brittany in South\, NJ
DESCRIPTION:
URL:https://dougandbrittanyfavuzza.com/event/doug-and-brittany-in-south-nj/
CATEGORIES:Church Service
END:VEVENT
BEGIN:VEVENT
DTSTART;VALUE=DATE:20260531
DTEND;VALUE=DATE:20260601
DTSTAMP:20260423T160811
CREATED:20260402T013311Z
LAST-MODIFIED:20260402T013311Z
UID:2722-1780185600-1780271999@dougandbrittanyfavuzza.com
SUMMARY:Doug and Brittany in Western\, PA
DESCRIPTION:
URL:https://dougandbrittanyfavuzza.com/event/doug-and-brittany-in-western-pa-7/
CATEGORIES:Church Service
END:VEVENT
END:VCALENDAR