BEGIN:VCALENDAR
VERSION:2.0
PRODID:-//Favuzza Missions - ECPv6.15.20//NONSGML v1.0//EN
CALSCALE:GREGORIAN
METHOD:PUBLISH
X-WR-CALNAME:Favuzza Missions
X-ORIGINAL-URL:https://dougandbrittanyfavuzza.com
X-WR-CALDESC:Events for Favuzza Missions
REFRESH-INTERVAL;VALUE=DURATION:PT1H
X-Robots-Tag:noindex
X-PUBLISHED-TTL:PT1H
BEGIN:VTIMEZONE
TZID:America/New_York
BEGIN:DAYLIGHT
TZOFFSETFROM:-0500
TZOFFSETTO:-0400
TZNAME:EDT
DTSTART:20220313T070000
END:DAYLIGHT
BEGIN:STANDARD
TZOFFSETFROM:-0400
TZOFFSETTO:-0500
TZNAME:EST
DTSTART:20221106T060000
END:STANDARD
BEGIN:DAYLIGHT
TZOFFSETFROM:-0500
TZOFFSETTO:-0400
TZNAME:EDT
DTSTART:20230312T070000
END:DAYLIGHT
BEGIN:STANDARD
TZOFFSETFROM:-0400
TZOFFSETTO:-0500
TZNAME:EST
DTSTART:20231105T060000
END:STANDARD
BEGIN:DAYLIGHT
TZOFFSETFROM:-0500
TZOFFSETTO:-0400
TZNAME:EDT
DTSTART:20240310T070000
END:DAYLIGHT
BEGIN:STANDARD
TZOFFSETFROM:-0400
TZOFFSETTO:-0500
TZNAME:EST
DTSTART:20241103T060000
END:STANDARD
BEGIN:DAYLIGHT
TZOFFSETFROM:-0500
TZOFFSETTO:-0400
TZNAME:EDT
DTSTART:20250309T070000
END:DAYLIGHT
BEGIN:STANDARD
TZOFFSETFROM:-0400
TZOFFSETTO:-0500
TZNAME:EST
DTSTART:20251102T060000
END:STANDARD
END:VTIMEZONE
BEGIN:VTIMEZONE
TZID:America/Argentina/Buenos_Aires
BEGIN:STANDARD
TZOFFSETFROM:-0300
TZOFFSETTO:-0300
TZNAME:-03
DTSTART:20210101T000000
END:STANDARD
END:VTIMEZONE
BEGIN:VEVENT
DTSTART;VALUE=DATE:20240724
DTEND;VALUE=DATE:20240725
DTSTAMP:20260423T150805
CREATED:20240423T192012Z
LAST-MODIFIED:20240423T192012Z
UID:1914-1721779200-1721865599@dougandbrittanyfavuzza.com
SUMMARY:Extreme Street Evangelism at Lima
DESCRIPTION:
URL:https://dougandbrittanyfavuzza.com/event/extreme-street-evangelism-at-lima/
LOCATION:Argentina\, Argentina
CATEGORIES:Crusades
ORGANIZER;CN="Favuzza Missions":MAILTO:favuzzamissions@gmail.com
END:VEVENT
BEGIN:VEVENT
DTSTART;VALUE=DATE:20240416
DTEND;VALUE=DATE:20240417
DTSTAMP:20260423T150805
CREATED:20240423T183620Z
LAST-MODIFIED:20240423T192114Z
UID:1878-1713225600-1713311999@dougandbrittanyfavuzza.com
SUMMARY:Pastoral Pre-campaign Breakfast Lima and Zárate
DESCRIPTION:
URL:https://dougandbrittanyfavuzza.com/event/pastoral-pre-campaign-breakfast-lima-and-zarate/
CATEGORIES:Crusades
END:VEVENT
BEGIN:VEVENT
DTSTART;VALUE=DATE:20240219
DTEND;VALUE=DATE:20240223
DTSTAMP:20260423T150805
CREATED:20231128T215743Z
LAST-MODIFIED:20231128T220042Z
UID:1457-1708300800-1708646399@dougandbrittanyfavuzza.com
SUMMARY:Campaña "Fiesta para la Familia\, La Rioja"
DESCRIPTION:
URL:https://dougandbrittanyfavuzza.com/event/campana-fiesta-para-la-familia-la-rioja/
CATEGORIES:Crusades
END:VEVENT
BEGIN:VEVENT
DTSTART;VALUE=DATE:20240122
DTEND;VALUE=DATE:20240129
DTSTAMP:20260423T150805
CREATED:20230508T222225Z
LAST-MODIFIED:20231128T220115Z
UID:1427-1705881600-1706486399@dougandbrittanyfavuzza.com
SUMMARY:Campaña "Chóco Hay Esperanza"
DESCRIPTION:
URL:https://dougandbrittanyfavuzza.com/event/campana-el-choco/
CATEGORIES:Crusades
ATTACH;FMTTYPE=image/png:https://dougandbrittanyfavuzza.com/wp-content/uploads/2023/05/PANTALLASTV.png
END:VEVENT
BEGIN:VEVENT
DTSTART;VALUE=DATE:20231201
DTEND;VALUE=DATE:20231202
DTSTAMP:20260423T150805
CREATED:20231128T215356Z
LAST-MODIFIED:20231128T220740Z
UID:1450-1701388800-1701475199@dougandbrittanyfavuzza.com
SUMMARY:Campaña "Formosa Clama"
DESCRIPTION:Una noche inédita se avecina en #LasLomitas  ¡Formosa Clama! El calendario está marcado y los cielos se abren sobre Las Lomitas para vivir una noche que será inolvidable de #fe\, #adoración y #clamor. Contaremos con la presencia especial de : Ev. Coty Annacondia\, Ev. Antonio Kerikian Ministerios \, Ap. Jorge Márquez\, Ap. Andrés González\, Douglas & Brittany Favuzza\, Presidente del consejo pastoral de Formosa: Ap. Ramon Leiva Pr. Ruben Omar Falcon \, Banda Misión Vida Argentina\, Gabriel Bazán y mucho más. Se llevará a cabo el 01 de diciembre en el hermoso pulmón verde de Las Lomitas\, con entradas libres y gratuitas.\nMás información al: 3715405584\n#FormosaClama #NosPreparamos #misiónvidaparalasnaciones
URL:https://dougandbrittanyfavuzza.com/event/campana-formosa-clama/
CATEGORIES:Crusades
ATTACH;FMTTYPE=image/jpeg:https://dougandbrittanyfavuzza.com/wp-content/uploads/2023/11/395620962_6756088324467321_4074435254674627552_n.jpg
END:VEVENT
BEGIN:VEVENT
DTSTART;TZID=America/New_York:20230421T080000
DTEND;TZID=America/New_York:20230423T170000
DTSTAMP:20260423T150805
CREATED:20230320T230752Z
LAST-MODIFIED:20230320T230917Z
UID:1357-1682064000-1682269200@dougandbrittanyfavuzza.com
SUMMARY:Campaign Santa María\, Catamarca
DESCRIPTION:
URL:https://dougandbrittanyfavuzza.com/event/campana-santa-maria-catamarca/
CATEGORIES:Crusades
ATTACH;FMTTYPE=image/jpeg:https://dougandbrittanyfavuzza.com/wp-content/uploads/2023/03/santa-maria-catamarca.jpg
END:VEVENT
BEGIN:VEVENT
DTSTART;TZID=America/Argentina/Buenos_Aires:20230302T000000
DTEND;TZID=America/Argentina/Buenos_Aires:20230304T235900
DTSTAMP:20260423T150805
CREATED:20221215T222503Z
LAST-MODIFIED:20230123T215408Z
UID:1335-1677715200-1677974340@dougandbrittanyfavuzza.com
SUMMARY:Santiago de Chile - Chile Crusade
DESCRIPTION:Support the Chile Crusade\n 
URL:https://dougandbrittanyfavuzza.com/event/chile-crusade/
CATEGORIES:All Events,Crusades
ATTACH;FMTTYPE=image/jpeg:https://dougandbrittanyfavuzza.com/wp-content/uploads/2022/12/Cruzada-de-Chile-1.jpg
ORGANIZER;CN="Favuzza Missions":MAILTO:favuzzamissions@gmail.com
END:VEVENT
BEGIN:VEVENT
DTSTART;VALUE=DATE:20220928
DTEND;VALUE=DATE:20221002
DTSTAMP:20260423T150805
CREATED:20220916T221541Z
LAST-MODIFIED:20220920T182902Z
UID:1004-1664323200-1664668799@dougandbrittanyfavuzza.com
SUMMARY:City Wide Crusade - Yacuiba\, Bolivia
DESCRIPTION:Support the City Wide Crusade in Yacuiba\, Bolivia\n 
URL:https://dougandbrittanyfavuzza.com/event/city-wide-crusade-yacuiba-bolivia/
CATEGORIES:All Events,Crusades
ATTACH;FMTTYPE=image/jpeg:https://dougandbrittanyfavuzza.com/wp-content/uploads/2022/09/yacuiba.jpg
ORGANIZER;CN="Favuzza Missions":MAILTO:favuzzamissions@gmail.com
END:VEVENT
BEGIN:VEVENT
DTSTART;VALUE=DATE:20220921
DTEND;VALUE=DATE:20220925
DTSTAMP:20260423T150805
CREATED:20220916T215607Z
LAST-MODIFIED:20220920T182908Z
UID:987-1663718400-1664063999@dougandbrittanyfavuzza.com
SUMMARY:City Wide Crusade - Oran\, Argentina
DESCRIPTION:Support the City Wide Crusade in Oran\, Argentina
URL:https://dougandbrittanyfavuzza.com/event/city-wide-crusade/
CATEGORIES:All Events,Crusades
ATTACH;FMTTYPE=image/jpeg:https://dougandbrittanyfavuzza.com/wp-content/uploads/2022/09/oranwide.jpg
ORGANIZER;CN="Favuzza Missions":MAILTO:favuzzamissions@gmail.com
END:VEVENT
END:VCALENDAR